BEGIN:VCALENDAR
VERSION:2.0
PRODID:-//Natale a Caltagirone - ECPv6.15.12.2//NONSGML v1.0//EN
CALSCALE:GREGORIAN
METHOD:PUBLISH
X-WR-CALNAME:Natale a Caltagirone
X-ORIGINAL-URL:https://nataleacaltagironelumina.it
X-WR-CALDESC:Eventi per Natale a Caltagirone
REFRESH-INTERVAL;VALUE=DURATION:PT1H
X-Robots-Tag:noindex
X-PUBLISHED-TTL:PT1H
BEGIN:VTIMEZONE
TZID:Europe/Rome
BEGIN:DAYLIGHT
TZOFFSETFROM:+0100
TZOFFSETTO:+0200
TZNAME:CEST
DTSTART:20240331T010000
END:DAYLIGHT
BEGIN:STANDARD
TZOFFSETFROM:+0200
TZOFFSETTO:+0100
TZNAME:CET
DTSTART:20241027T010000
END:STANDARD
BEGIN:DAYLIGHT
TZOFFSETFROM:+0100
TZOFFSETTO:+0200
TZNAME:CEST
DTSTART:20250330T010000
END:DAYLIGHT
BEGIN:STANDARD
TZOFFSETFROM:+0200
TZOFFSETTO:+0100
TZNAME:CET
DTSTART:20251026T010000
END:STANDARD
BEGIN:DAYLIGHT
TZOFFSETFROM:+0100
TZOFFSETTO:+0200
TZNAME:CEST
DTSTART:20260329T010000
END:DAYLIGHT
BEGIN:STANDARD
TZOFFSETFROM:+0200
TZOFFSETTO:+0100
TZNAME:CET
DTSTART:20261025T010000
END:STANDARD
END:VTIMEZONE
BEGIN:VEVENT
DTSTART;TZID=Europe/Rome:20251226T080000
DTEND;TZID=Europe/Rome:20251228T170000
DTSTAMP:20260422T101011
CREATED:20251119T115937Z
LAST-MODIFIED:20251223T164447Z
UID:666-1766736000-1766941200@nataleacaltagironelumina.it
SUMMARY:Le Muse Scacchi Fest
DESCRIPTION:Scacchi Fest a cura dell’Associazione Culturale Le Muse Caltagirone \nL’Associazione Culturale “Le Muse” ETS\, nell’ambito del programma “Natale a Caltagirone – Lumina 2025” e con il patrocinio del Comune di Caltagirone\, annuncia lo svolgimento del torneo “Le Muse Scacchi Fest – Città di Caltagirone”. \nLa manifestazione si terrà nei giorni 26\, 27 e 28 dicembre 2025 nella prestigiosa Sala “Mario Scelba” di Palazzo dell’Aquila.\nOrganizzato in collaborazione con l’Accademia Scacchistica Don Pietro Carrera di Catania\, il torneo rappresenta un appuntamento di rilievo nazionale e vedrà la partecipazione di circa 60 scacchisti agonisti provenienti da diverse regioni d’Italia. \nSono previsti tre Tornei Open ufficiali\, omologati FIDE e validi per la variazione del punteggio Elo\, riservati ai tesserati FSI. \nUn evento di grande valore sportivo e culturale\, che arricchisce il calendario delle attività natalizie della città. \nPer informazioni e iscrizioni:\n👉 https://vesus.org/event/BnHvLL6T \n 
URL:https://nataleacaltagironelumina.it/event/le-muse-scacchi-fest/
LOCATION:Salone di Rappresentanza
CATEGORIES:Lumina in Festa
END:VEVENT
END:VCALENDAR