BEGIN:VCALENDAR
VERSION:2.0
PRODID:-//Natale a Caltagirone - ECPv6.15.12.2//NONSGML v1.0//EN
CALSCALE:GREGORIAN
METHOD:PUBLISH
X-WR-CALNAME:Natale a Caltagirone
X-ORIGINAL-URL:https://nataleacaltagironelumina.it
X-WR-CALDESC:Eventi per Natale a Caltagirone
REFRESH-INTERVAL;VALUE=DURATION:PT1H
X-Robots-Tag:noindex
X-PUBLISHED-TTL:PT1H
BEGIN:VTIMEZONE
TZID:Europe/Rome
BEGIN:DAYLIGHT
TZOFFSETFROM:+0100
TZOFFSETTO:+0200
TZNAME:CEST
DTSTART:20230326T010000
END:DAYLIGHT
BEGIN:STANDARD
TZOFFSETFROM:+0200
TZOFFSETTO:+0100
TZNAME:CET
DTSTART:20231029T010000
END:STANDARD
BEGIN:DAYLIGHT
TZOFFSETFROM:+0100
TZOFFSETTO:+0200
TZNAME:CEST
DTSTART:20240331T010000
END:DAYLIGHT
BEGIN:STANDARD
TZOFFSETFROM:+0200
TZOFFSETTO:+0100
TZNAME:CET
DTSTART:20241027T010000
END:STANDARD
BEGIN:DAYLIGHT
TZOFFSETFROM:+0100
TZOFFSETTO:+0200
TZNAME:CEST
DTSTART:20250330T010000
END:DAYLIGHT
BEGIN:STANDARD
TZOFFSETFROM:+0200
TZOFFSETTO:+0100
TZNAME:CET
DTSTART:20251026T010000
END:STANDARD
END:VTIMEZONE
BEGIN:VEVENT
DTSTART;VALUE=DATE:20241213
DTEND;VALUE=DATE:20241217
DTSTAMP:20260422T101011
CREATED:20241125T212014Z
LAST-MODIFIED:20241125T212014Z
UID:201-1734051600-1734310799@nataleacaltagironelumina.it
SUMMARY:Sicilia che piace
DESCRIPTION:“Sicilia che piace” Assessorato alle attività produttive Regione Sicilia INCERAMICATA – le strade della ceramica siciliana.\nVolta Libertini\nInstallazione ceramica a cura ACC associazione ceramisti di Caltagirone e progettazione dell’ABADIR Accademia di design e comunicazione visiva
URL:https://nataleacaltagironelumina.it/event/sicilia-che-piace-2/
CATEGORIES:Lumina in Ceramica
END:VEVENT
END:VCALENDAR